BEGIN:VCALENDAR
VERSION:2.0
PRODID:-//GRÜNE Kanton Bern - ECPv6.15.15//NONSGML v1.0//EN
CALSCALE:GREGORIAN
METHOD:PUBLISH
X-WR-CALNAME:GRÜNE Kanton Bern
X-ORIGINAL-URL:https://gruenebern.ch
X-WR-CALDESC:Veranstaltungen für GRÜNE Kanton Bern
REFRESH-INTERVAL;VALUE=DURATION:PT1H
X-Robots-Tag:noindex
X-PUBLISHED-TTL:PT1H
BEGIN:VTIMEZONE
TZID:Europe/Zurich
BEGIN:DAYLIGHT
TZOFFSETFROM:+0100
TZOFFSETTO:+0200
TZNAME:CEST
DTSTART:20230326T010000
END:DAYLIGHT
BEGIN:STANDARD
TZOFFSETFROM:+0200
TZOFFSETTO:+0100
TZNAME:CET
DTSTART:20231029T010000
END:STANDARD
BEGIN:DAYLIGHT
TZOFFSETFROM:+0100
TZOFFSETTO:+0200
TZNAME:CEST
DTSTART:20240331T010000
END:DAYLIGHT
BEGIN:STANDARD
TZOFFSETFROM:+0200
TZOFFSETTO:+0100
TZNAME:CET
DTSTART:20241027T010000
END:STANDARD
BEGIN:DAYLIGHT
TZOFFSETFROM:+0100
TZOFFSETTO:+0200
TZNAME:CEST
DTSTART:20250330T010000
END:DAYLIGHT
BEGIN:STANDARD
TZOFFSETFROM:+0200
TZOFFSETTO:+0100
TZNAME:CET
DTSTART:20251026T010000
END:STANDARD
END:VTIMEZONE
BEGIN:VEVENT
DTSTART;TZID=Europe/Zurich:20240321T183000
DTEND;TZID=Europe/Zurich:20240321T193000
DTSTAMP:20260420T110536
CREATED:20200104T204347Z
LAST-MODIFIED:20231117T094332Z
UID:7997-1711045800-1711049400@gruenebern.ch
SUMMARY:Treffen für Neumitglieder und Interessierte
DESCRIPTION:
URL:https://gruenebern.ch/event/treffen-fuer-neumitglieder-und-interessierte
LOCATION:Restaurant Musigbistrot\, Mühlemattstrasse 48\, Bern\, 3007
CATEGORIES:Veranstaltungen
END:VEVENT
END:VCALENDAR